BEGIN:VCALENDAR
VERSION:2.0
PRODID:-//Athena Dixon - ECPv6.15.20//NONSGML v1.0//EN
CALSCALE:GREGORIAN
METHOD:PUBLISH
X-ORIGINAL-URL:https://athenadixon.com
X-WR-CALDESC:Events for Athena Dixon
REFRESH-INTERVAL;VALUE=DURATION:PT1H
X-Robots-Tag:noindex
X-PUBLISHED-TTL:PT1H
BEGIN:VTIMEZONE
TZID:UTC
BEGIN:STANDARD
TZOFFSETFROM:+0000
TZOFFSETTO:+0000
TZNAME:UTC
DTSTART:20190101T000000
END:STANDARD
END:VTIMEZONE
BEGIN:VTIMEZONE
TZID:America/Halifax
BEGIN:DAYLIGHT
TZOFFSETFROM:-0400
TZOFFSETTO:-0300
TZNAME:ADT
DTSTART:20190310T060000
END:DAYLIGHT
BEGIN:STANDARD
TZOFFSETFROM:-0300
TZOFFSETTO:-0400
TZNAME:AST
DTSTART:20191103T050000
END:STANDARD
BEGIN:DAYLIGHT
TZOFFSETFROM:-0400
TZOFFSETTO:-0300
TZNAME:ADT
DTSTART:20200308T060000
END:DAYLIGHT
BEGIN:STANDARD
TZOFFSETFROM:-0300
TZOFFSETTO:-0400
TZNAME:AST
DTSTART:20201101T050000
END:STANDARD
BEGIN:DAYLIGHT
TZOFFSETFROM:-0400
TZOFFSETTO:-0300
TZNAME:ADT
DTSTART:20210314T060000
END:DAYLIGHT
BEGIN:STANDARD
TZOFFSETFROM:-0300
TZOFFSETTO:-0400
TZNAME:AST
DTSTART:20211107T050000
END:STANDARD
END:VTIMEZONE
BEGIN:VEVENT
DTSTART;TZID=UTC:20210520T060000
DTEND;TZID=UTC:20210520T190000
DTSTAMP:20260423T171755
CREATED:20210505T042818Z
LAST-MODIFIED:20210505T042818Z
UID:4017-1621490400-1621537200@athenadixon.com
SUMMARY:JEANNINE OUELLETTE IN CONVERSATION WITH ATHENA DIXON
DESCRIPTION:Join us for an evening with authors Athena Dixon and Jeannine Ouellette. \nThursday\, May 20th 6pm ET via Zoom\nSuggested $5 Donation \nA native of Northeast Ohio\, Athena Dixon is the author of The Incredible Shrinking Woman (Split/Lip Press) and No God in This Room (Argus House Press). Her work also appears in The BreakBeat Poets Vol. 2: Black Girl Magic (Haymarket Books) and in various publications including GAY Magazine and Narratively. She resides in Philadelphia. Learn more about the author at www.athenadixon.com. \nJeannine Ouellette is the author of The Part That Burns\, a memoir in fragments. Her work has appeared in Calyx\, Narrative\, North American Review\, Masters Review\, Tupelo Quarterly\, Writer’s Chronicle\, among others\, and in several anthologies including Ms. Aligned: Women Writing About Men and Women’s Lives: Multicultural Perspectives. Her work has been supported by Millay Colony for the Arts and Brush Creek Foundation for the Arts.  She teaches writing through the University of Minnesota\, the Minnesota Prison Writing Workshop\, and Elephant Rock\, an independent creative writing program she founded in 2012. She is working on her first novel.
URL:https://athenadixon.com/event/jeannine-ouellette-in-conversation-with-athena-dixon/
END:VEVENT
BEGIN:VEVENT
DTSTART;TZID=UTC:20210320T120000
DTEND;TZID=UTC:20210320T130000
DTSTAMP:20260423T171755
CREATED:20210505T042545Z
LAST-MODIFIED:20210505T042545Z
UID:4015-1616241600-1616245200@athenadixon.com
SUMMARY:CREATIVE CONVERSATIONS WITH MARITA: A Black Women Writer’s Showcase to Honor Women’s History Month
DESCRIPTION:We’ll discuss the women in our lives who inspired us to write\, the women writers who modeled excellence for us\, and the challenges and satisfactions of our current projects.\n\nJoining me will be:\n\n\nNovelist Kalisha Buckhanon\, author most recently of the novel Speaking of Summer\nAthena Dixon\, essayist and nonfiction writer and author of The Incredible Shrinking Woman\nFelicia Pride\, award-winning filmmaker\, writer for Queen Sugar and Grey’s Anatomy\nDeNeen Brown\, veteran Washington Post journalist whose recent investigative reporting on the Tulsa massacre will be featured in an upcoming documentary\nImani Perry\, Hughes-Roberts Professor of African American Studies at Princeton and author of Looking for Lorraine: The Radiant and Radical Life of Lorraine Hansberry\nZelda Lockhart\, author of the forthcoming novel The Trinity: The Story of The Father\, The Son and the Black Daughter Who Set Things Up Right Again\, and the memoir Recollect: A Black Woman’s Journey to Decolonize Mind\, Body\, and Soul.
URL:https://athenadixon.com/event/creative-conversations-with-marita-a-black-women-writers-showcase-to-honor-womens-history-month/
END:VEVENT
BEGIN:VEVENT
DTSTART;TZID=UTC:20210317T130000
DTEND;TZID=UTC:20210317T140000
DTSTAMP:20260423T171755
CREATED:20210505T042332Z
LAST-MODIFIED:20210505T042332Z
UID:4013-1615986000-1615989600@athenadixon.com
SUMMARY:Inside Writing (Gotham Writers)
DESCRIPTION:Inside Writer’s Block featuring writers Athena Dixon and Amy Alkon.
URL:https://athenadixon.com/event/inside-writing-gotham-writers/
END:VEVENT
BEGIN:VEVENT
DTSTART;TZID=UTC:20210304T193000
DTEND;TZID=UTC:20210304T203000
DTSTAMP:20260423T171755
CREATED:20201227T184339Z
LAST-MODIFIED:20201227T184419Z
UID:815-1614886200-1614889800@athenadixon.com
SUMMARY:Writers and Books Reading and Book Talk
DESCRIPTION:Drawing upon an unconventional nonfiction storytelling structure derived from the game MASH\, Athena Dixon’s debut memoir-in-essays is a nostalgic\, compelling journey of self-discovery. Unpacking life’s unexpected experiences\, Dixon embarks on a winding\, reminiscent road to find the answers to one of humankind’s most pressing questions: Why must I shrink to avoid disruption? 
URL:https://athenadixon.com/event/writers-and-books-reading-and-book-talk/
END:VEVENT
BEGIN:VEVENT
DTSTART;TZID=America/Halifax:20201209T170000
DTEND;TZID=America/Halifax:20201209T183000
DTSTAMP:20260423T171755
CREATED:20201008T215558Z
LAST-MODIFIED:20201008T215558Z
UID:748-1607533200-1607538600@athenadixon.com
SUMMARY:Virtual Craft Happy Hour with Athena Dixon
DESCRIPTION:TWC presents a FREE VIDEO CHAT about the craft of the essay! \nWe’re joined by poet\, essayist\, and editor Athena Dixon to talk about her insightful new essay collection\, The Incredible Shrinking Woman. Athena will be in conversation with Amy Freeman\, writer\, essayist\, and Development Director at The Writer’s Center.
URL:https://athenadixon.com/event/virtual-craft-happy-hour-with-athena-dixon/
END:VEVENT
BEGIN:VEVENT
DTSTART;TZID=UTC:20201201T200000
DTEND;TZID=UTC:20201201T210000
DTSTAMP:20260423T171755
CREATED:20201016T212235Z
LAST-MODIFIED:20201016T212235Z
UID:750-1606852800-1606856400@athenadixon.com
SUMMARY:The Raven Bookstore Small Press Showcase with Split/Lip Press\, Barrelhouse Books\, and Mason Jar Press
DESCRIPTION:Join three authors with three new books from three fantastic small presses for an evening of small press magic.
URL:https://athenadixon.com/event/the-raven-bookstore-small-press-showcase-with-split-lip-press-barrelhouse-books-and-mason-jar-press/
END:VEVENT
BEGIN:VEVENT
DTSTART;TZID=UTC:20201115T180000
DTEND;TZID=UTC:20201115T190000
DTSTAMP:20260423T171755
CREATED:20201109T232038Z
LAST-MODIFIED:20201109T232107Z
UID:764-1605463200-1605466800@athenadixon.com
SUMMARY:In Conversation with HypeGurlChronicles
DESCRIPTION:Join Athena Dixon and HypeGurlChronicles on IG Live for a discussion on The Incredible Shrinking Woman
URL:https://athenadixon.com/event/in-conversation-with-hypegurlchronicles/
END:VEVENT
BEGIN:VEVENT
DTSTART;TZID=UTC:20201022T200000
DTEND;TZID=UTC:20201022T220000
DTSTAMP:20260423T171755
CREATED:20200916T224714Z
LAST-MODIFIED:20200916T224714Z
UID:728-1603396800-1603404000@athenadixon.com
SUMMARY:The Antibody: A Quarantine Reading Series
DESCRIPTION:A boost to your spirit if not your immune system\, The Antibody is a reading and Q&A hosted by Brian Gresko via Zoom and live streaming on YouTube. Edited episodes appear on The Virtual Book Channel by Lit Hub. Please support The Antibody authors! Their books are available for purchase via Bookshop.org. \n  \nPlease enjoy via Zoom (link follows) or YouTube (https://www.youtube.com/watch?v=7kkq0NOrWFE&feature=youtu.be)
URL:https://athenadixon.com/event/the-antibody-a-quarantine-reading-series/
END:VEVENT
BEGIN:VEVENT
DTSTART;TZID=UTC:20201010T100000
DTEND;TZID=UTC:20201010T170000
DTSTAMP:20260423T171755
CREATED:20200814T002913Z
LAST-MODIFIED:20200814T002913Z
UID:710-1602324000-1602349200@athenadixon.com
SUMMARY:Push to Publish Annual Conference
DESCRIPTION:Since 2009\, this annual one-day publishing conference has become a popular networking opportunity for writers of all experience levels. Keynote speakers have included Steve Almond\, Michael Martone\, Beth Kephart\, Kevin McIlvoy\, Paul Lisicky\, and Karen Quinones Miller. Whether you are an established writer or just getting started\, this one-day workshop will provide valuable resources you can use to get your work in print and online. Highlights include: \n\nSpeed date with the editors and agents: Meet editors and agents who will review and offer feedback on your work (bring up to 5 pages of fiction\, poetry\, or nonfiction to review and discuss).\nLearn how to increase your chances of getting published.\nDiscuss the new writing trends with professionals in the community\nGet great marketing and networking tips to break into the competitive world of publishing.\n\n(please note this event requires a fee and registration)
URL:https://athenadixon.com/event/push-to-publish-annual-conference/
END:VEVENT
BEGIN:VEVENT
DTSTART;TZID=UTC:20201010T080000
DTEND;TZID=UTC:20201011T170000
DTSTAMP:20260423T171755
CREATED:20200814T000556Z
LAST-MODIFIED:20200814T000556Z
UID:708-1602316800-1602435600@athenadixon.com
SUMMARY:James River Writers Conference (Multiple Events)
DESCRIPTION:James River Writers Conference is an annual gathering that usually takes place in Richmond\, Virginia\, and attracts prize-winning authors and highly regarded editors and literary agents from around the country to share their wisdom about writing and publishing. Since 2003\, this multi-day event of 350 to 400 writers\, has been known for its inspiring\, collegial atmosphere and hospitality. We have made the difficult decision to move this year’s conference online. But\, rest assured that we will be including the same elements that have made this conference a successful\, sold-out event for the writing community year after year. Look forward to the Agent Dating Game\, First Pages\, Master Classes\, and more! In addition\, we will build in opportunities for networking and fun engagement\, knowing that community is at the heart of everything we do. Whether you’re just starting out on your writing journey\, or a seasoned professional\, there’s something for everyone. We hope you’ll join us online this year! (please note this is a paid event and requires registration)
URL:https://athenadixon.com/event/james-river-writers-conference-multiple-events/
END:VEVENT
BEGIN:VEVENT
DTSTART;TZID=UTC:20200921T200000
DTEND;TZID=UTC:20200921T210000
DTSTAMP:20260423T171755
CREATED:20200824T205429Z
LAST-MODIFIED:20200824T205746Z
UID:717-1600718400-1600722000@athenadixon.com
SUMMARY:Memoir Monday
DESCRIPTION:Memoir Monday is a collaboration between Narratively\, Catapult\, The Rumpus\, Granta\, Guernica\, and Literary Hub to bring the very best first-person writing together in a weekly newsletter and a quarterly reading series. \nThe reading series usually takes place at Powerhouse Arena in Brooklyn\, but will be held online via Zoom until in-person gatherings are safe again! \nRegister here for the next Memoir Monday reading\, featuringAthena Dixon\, Sarah Kasbeer\, Angela Chen\, and Melissa Faliveno. There will be a brief q&a following readings by these great writers. \nOrder the featured author’s books through Bookshop.org to support independent bookstores\, Memoir Monday\, and our authors! https://bookshop.org/lists/the-memoir-monday-book-list
URL:https://athenadixon.com/event/memoir-monday/
END:VEVENT
BEGIN:VEVENT
DTSTART;TZID=America/Halifax:20200916T193000
DTEND;TZID=America/Halifax:20200916T223000
DTSTAMP:20260423T171755
CREATED:20200916T225228Z
LAST-MODIFIED:20200916T225429Z
UID:733-1600284600-1600295400@athenadixon.com
SUMMARY:Rosemont MFA Program Reading Series
DESCRIPTION:MFA Reading Series featuring special guests Athena Dixon\, author of The Incredible Shrinking Woman and Kristina Moriconi\, author of In the Cloakroom of Proper Musings. The reading will also feature MFA students Kyle Robertson\, Linda Romanowski\, and Rachel Kolman
URL:https://athenadixon.com/event/rosemont-mfa-program-reading-series/
END:VEVENT
BEGIN:VEVENT
DTSTART;TZID=UTC:20200915T000000
DTEND;TZID=UTC:20200915T233000
DTSTAMP:20260423T171755
CREATED:20200813T235959Z
LAST-MODIFIED:20200823T182348Z
UID:704-1600128000-1600212600@athenadixon.com
SUMMARY:The Incredible Shrinking Woman Official Launch
DESCRIPTION:Join the author for the official public launch of The Incredible Shrinking Woman\, the debut essay collection by Athena Dixon. \nTonight’s event\, A Conversation between Athena Dixon and Melissa Matthewson\, gives highlight to two Split/Lip Press authors. \n 
URL:https://athenadixon.com/event/the-incredible-shrinking-woman-official-launch/
END:VEVENT
BEGIN:VEVENT
DTSTART;TZID=UTC:20200830T150000
DTEND;TZID=UTC:20200830T160000
DTSTAMP:20260423T171755
CREATED:20200813T234210Z
LAST-MODIFIED:20200813T235217Z
UID:695-1598799600-1598803200@athenadixon.com
SUMMARY:Hidden Timber Small Press Author Reading Series
DESCRIPTION:In light of so many cancelled book tours as of late\, Hidden Timber Books is hosting other small press authors via Zoom for readings. These events are FREE\, all you need to do is register for the link to join. Attend one\, attend them all\, and spread the word!
URL:https://athenadixon.com/event/hidden-timber-small-press-author-reading-series/
END:VEVENT
BEGIN:VEVENT
DTSTART;TZID=UTC:20200829T180000
DTEND;TZID=UTC:20200829T200000
DTSTAMP:20260423T171755
CREATED:20200813T235116Z
LAST-MODIFIED:20200813T235116Z
UID:700-1598724000-1598731200@athenadixon.com
SUMMARY:A Night of Nonficiton Online (Debut Author Reading and Q&A)
DESCRIPTION:Since our annual CNF conference\, HippoCamp\, is on hold until 2021 (thanks\, ‘Rona)\, we thought we’d bring one of the conference’s most highly anticipated events right to your living room!\nOur Debut Author Reading & Panel Discussion showcases the newest work of four talented creative nonfiction writers\, giving you a chance to hear them read\, support their work\, and ask questions about how they made it from shitty first draft to published book.\nNote: please REGISTER at the link provided\, and you will receive a meeting invite with details. Our Zoom Room has limited capacity\, so if you want in\, RSVP soon!
URL:https://athenadixon.com/event/a-night-of-nonficiton-online-debut-author-reading-and-qa/
END:VEVENT
BEGIN:VEVENT
DTSTART;TZID=UTC:20200815T000000
DTEND;TZID=UTC:20200901T000000
DTSTAMP:20260423T171755
CREATED:20200813T235531Z
LAST-MODIFIED:20200813T235531Z
UID:702-1597449600-1598918400@athenadixon.com
SUMMARY:The Incredible Shrinking Woman (Pre-Sale)
DESCRIPTION:Pre-Sales of The Incredible Shrinking Woman begin 08/15/2020 through 09/01/2020. The first 50 pre-sale orders will receive a special autograph plate!
URL:https://athenadixon.com/event/the-incredible-shrinking-woman-pre-sale/
END:VEVENT
END:VCALENDAR